BEGIN:VCALENDAR
VERSION:2.0
PRODID:-//81.169.145.165//NONSGML kigkonsult.se iCalcreator 2.20//
CALSCALE:GREGORIAN
METHOD:PUBLISH
X-WR-TIMEZONE:UTC
BEGIN:VEVENT
UID:event36@Gemeindefeuerwehr Großrückerswalde
DTSTAMP:20260420T045436Z
CATEGORIES:OF Großrückerswalde
DESCRIPTION:Großrückerswalde Absturzsicherung\nKategorie: OF Großrückerswal
 de\nICS-Link: https://www.feuerwehr-grossrueckerswalde.de/index.php?option
 =com_jem&view=event&id=36:grossrueckerswalde-absturzsicherung\n
DTSTART:20170214T193000Z
DTEND:20170214T193000Z
LOCATION:Gerätehaus Großrückerswalde\,Marienberger Str. 72\,09518 Grossrück
 erswalde
SUMMARY:Großrückerswalde Absturzsicherung
URL:https://www.feuerwehr-grossrueckerswalde.de/index.php?option=com_jem&vi
 ew=event&id=36:grossrueckerswalde-absturzsicherung
END:VEVENT
END:VCALENDAR
