BEGIN:VCALENDAR
VERSION:2.0
PRODID:-//81.169.145.165//NONSGML kigkonsult.se iCalcreator 2.20//
CALSCALE:GREGORIAN
METHOD:PUBLISH
X-WR-TIMEZONE:UTC
BEGIN:VEVENT
UID:event39@Gemeindefeuerwehr Großrückerswalde
DTSTAMP:20260420T065138Z
CATEGORIES:OF Großrückerswalde
DESCRIPTION:Großrückerswalde Fahren mit Sondersignal\nKategorie: OF Großrüc
 kerswalde\nICS-Link: https://www.feuerwehr-grossrueckerswalde.de/index.php
 ?option=com_jem&view=event&id=39:grossrueckerswalde-fahrten-mit-sondersign
 al\n
DTSTART:20170314T193000Z
DTEND:20170314T193000Z
LOCATION:Oberschule Großrückerswalde\,Wolkensteiner Straße 3\,09518 Großrüc
 kerswalde
SUMMARY:Großrückerswalde Fahren mit Sondersignal
URL:https://www.feuerwehr-grossrueckerswalde.de/index.php?option=com_jem&vi
 ew=event&id=39:grossrueckerswalde-fahrten-mit-sondersignal
END:VEVENT
END:VCALENDAR
