BEGIN:VCALENDAR
VERSION:2.0
PRODID:-//81.169.145.165//NONSGML kigkonsult.se iCalcreator 2.20//
CALSCALE:GREGORIAN
METHOD:PUBLISH
X-WR-TIMEZONE:UTC
BEGIN:VEVENT
UID:event4@Gemeindefeuerwehr Großrückerswalde
DTSTAMP:20260419T214902Z
CATEGORIES:Gemeindefeuerwehr Großrückerswalde
DESCRIPTION:Absicherung 6. Gassenlauf\nKategorie: Gemeindefeuerwehr Großrüc
 kerswalde\nICS-Link: https://www.feuerwehr-grossrueckerswalde.de/index.php
 ?option=com_jem&view=event&id=4:absicherung-6-gassenlauf\n
DTSTART:20150911T163000Z
DTEND:20150911T163000Z
LOCATION:Großrückerswalde\,09518
SUMMARY:Absicherung 6. Gassenlauf
URL:https://www.feuerwehr-grossrueckerswalde.de/index.php?option=com_jem&vi
 ew=event&id=4:absicherung-6-gassenlauf
END:VEVENT
END:VCALENDAR
