BEGIN:VCALENDAR
VERSION:2.0
PRODID:-//81.169.145.165//NONSGML kigkonsult.se iCalcreator 2.20//
CALSCALE:GREGORIAN
METHOD:PUBLISH
X-WR-TIMEZONE:UTC
BEGIN:VEVENT
UID:event40@Gemeindefeuerwehr Großrückerswalde
DTSTAMP:20260420T031736Z
CATEGORIES:OF Großrückerswalde
DESCRIPTION:Großrückerswalde Vorgehen bei Vekehrsunfall\nKategorie: OF Groß
 rückerswalde\nICS-Link: https://www.feuerwehr-grossrueckerswalde.de/index.
 php?option=com_jem&view=event&id=40:grossrueckerswalde-vorgehen-bei-vekehr
 sunfall\n
DTSTART:20170404T190000Z
DTEND:20170404T190000Z
LOCATION:Gerätehaus Großrückerswalde\,Marienberger Str. 72\,09518 Grossrück
 erswalde
SUMMARY:Großrückerswalde Vorgehen bei Vekehrsunfall
URL:https://www.feuerwehr-grossrueckerswalde.de/index.php?option=com_jem&vi
 ew=event&id=40:grossrueckerswalde-vorgehen-bei-vekehrsunfall
END:VEVENT
END:VCALENDAR
