BEGIN:VCALENDAR
VERSION:2.0
PRODID:-//81.169.145.165//NONSGML kigkonsult.se iCalcreator 2.20//
CALSCALE:GREGORIAN
METHOD:PUBLISH
X-WR-TIMEZONE:UTC
BEGIN:VEVENT
UID:event43@Gemeindefeuerwehr Großrückerswalde
DTSTAMP:20260420T031837Z
CATEGORIES:OF Großrückerswalde
DESCRIPTION:Großrückerswalde Vorgehen bei Wohnungsbränden\nKategorie: OF Gr
 oßrückerswalde\nICS-Link: https://www.feuerwehr-grossrueckerswalde.de/inde
 x.php?option=com_jem&view=event&id=43:grossrueckerswalde-vorgehen-bei-wohn
 ungsbraenden\n
DTSTART:20170509T190000Z
DTEND:20170509T190000Z
LOCATION:Gerätehaus Großrückerswalde\,Marienberger Str. 72\,09518 Grossrück
 erswalde
SUMMARY:Großrückerswalde Vorgehen bei Wohnungsbränden
URL:https://www.feuerwehr-grossrueckerswalde.de/index.php?option=com_jem&vi
 ew=event&id=43:grossrueckerswalde-vorgehen-bei-wohnungsbraenden
END:VEVENT
END:VCALENDAR
