BEGIN:VCALENDAR
VERSION:2.0
PRODID:-//81.169.145.165//NONSGML kigkonsult.se iCalcreator 2.20//
CALSCALE:GREGORIAN
METHOD:PUBLISH
X-WR-TIMEZONE:UTC
BEGIN:VEVENT
UID:event49@Gemeindefeuerwehr Großrückerswalde
DTSTAMP:20260420T064937Z
CATEGORIES:OF Niederschmiedeberg
DESCRIPTION:Niederschmiedeberg Gefahren an der Einsatzstelle\nKategorie: OF
  Niederschmiedeberg\nICS-Link: https://www.feuerwehr-grossrueckerswalde.de
 /index.php?option=com_jem&view=event&id=49:niederschmiedeberg-gefahren-an-
 der-einsatzstelle\n
DTSTART:20170221T183000Z
DTEND:20170221T183000Z
LOCATION:Gerätehaus Niederschmiedeberg\,Talstraße 18\,09518 Niederschmiedeb
 erg
SUMMARY:Niederschmiedeberg Gefahren an der Einsatzstelle
URL:https://www.feuerwehr-grossrueckerswalde.de/index.php?option=com_jem&vi
 ew=event&id=49:niederschmiedeberg-gefahren-an-der-einsatzstelle
END:VEVENT
END:VCALENDAR
