BEGIN:VCALENDAR
VERSION:2.0
PRODID:-//81.169.145.165//NONSGML kigkonsult.se iCalcreator 2.20//
CALSCALE:GREGORIAN
METHOD:PUBLISH
X-WR-TIMEZONE:UTC
BEGIN:VEVENT
UID:event51@Gemeindefeuerwehr Großrückerswalde
DTSTAMP:20260420T013130Z
CATEGORIES:OF Niederschmiedeberg
DESCRIPTION:Niederschmiedeberg Sanitätsausbildung\nKategorie: OF Niederschm
 iedeberg\nICS-Link: https://www.feuerwehr-grossrueckerswalde.de/index.php?
 option=com_jem&view=event&id=51:niederschmiedeberg-sanitaetsdienst\n
DTSTART:20170314T183000Z
DTEND:20170314T183000Z
LOCATION:Gerätehaus Niederschmiedeberg\,Talstraße 18\,09518 Niederschmiedeb
 erg
SUMMARY:Niederschmiedeberg Sanitätsausbildung
URL:https://www.feuerwehr-grossrueckerswalde.de/index.php?option=com_jem&vi
 ew=event&id=51:niederschmiedeberg-sanitaetsdienst
END:VEVENT
END:VCALENDAR
