BEGIN:VCALENDAR
VERSION:2.0
PRODID:-//81.169.145.165//NONSGML kigkonsult.se iCalcreator 2.20//
CALSCALE:GREGORIAN
METHOD:PUBLISH
X-WR-TIMEZONE:UTC
BEGIN:VEVENT
UID:event53@Gemeindefeuerwehr Großrückerswalde
DTSTAMP:20260420T064628Z
CATEGORIES:OF Niederschmiedeberg
DESCRIPTION:Niederschmiedeberg Gerätedienst\nKategorie: OF Niederschmiedebe
 rg\nICS-Link: https://www.feuerwehr-grossrueckerswalde.de/index.php?option
 =com_jem&view=event&id=53:niederschmiedeberg-geraetedienst\n
DTSTART:20170404T183000Z
DTEND:20170404T183000Z
LOCATION:Gerätehaus Niederschmiedeberg\,Talstraße 18\,09518 Niederschmiedeb
 erg
SUMMARY:Niederschmiedeberg Gerätedienst
URL:https://www.feuerwehr-grossrueckerswalde.de/index.php?option=com_jem&vi
 ew=event&id=53:niederschmiedeberg-geraetedienst
END:VEVENT
END:VCALENDAR
