BEGIN:VCALENDAR
VERSION:2.0
PRODID:-//81.169.145.165//NONSGML kigkonsult.se iCalcreator 2.20//
CALSCALE:GREGORIAN
METHOD:PUBLISH
X-WR-TIMEZONE:UTC
BEGIN:VEVENT
UID:event54@Gemeindefeuerwehr Großrückerswalde
DTSTAMP:20260419T221724Z
CATEGORIES:OF Niederschmiedeberg
DESCRIPTION:Niederschmiedeberg Knoten\, Stiche und Bunde\nKategorie: OF Nie
 derschmiedeberg\nICS-Link: https://www.feuerwehr-grossrueckerswalde.de/ind
 ex.php?option=com_jem&view=event&id=54:niederschmiedeberg-knoten-stiche-un
 d-bunde\n
DTSTART:20170411T183000Z
DTEND:20170411T183000Z
LOCATION:Gerätehaus Niederschmiedeberg\,Talstraße 18\,09518 Niederschmiedeb
 erg
SUMMARY:Niederschmiedeberg Knoten\, Stiche und Bunde
URL:https://www.feuerwehr-grossrueckerswalde.de/index.php?option=com_jem&vi
 ew=event&id=54:niederschmiedeberg-knoten-stiche-und-bunde
END:VEVENT
END:VCALENDAR
