BEGIN:VCALENDAR
VERSION:2.0
PRODID:-//81.169.145.165//NONSGML kigkonsult.se iCalcreator 2.20//
CALSCALE:GREGORIAN
METHOD:PUBLISH
X-WR-TIMEZONE:UTC
BEGIN:VEVENT
UID:event58@Gemeindefeuerwehr Großrückerswalde
DTSTAMP:20260420T000531Z
CATEGORIES:OF Niederschmiedeberg
DESCRIPTION:Niederschmiedeberg Einheiten im Hilfeleistungseinsatz\nKategori
 e: OF Niederschmiedeberg\nICS-Link: https://www.feuerwehr-grossrueckerswal
 de.de/index.php?option=com_jem&view=event&id=58:niederschmiedeberg-einheit
 en-im-hilfeleistungseinsatz\n
DTSTART:20170517T183000Z
DTEND:20170517T183000Z
LOCATION:Gerätehaus Niederschmiedeberg\,Talstraße 18\,09518 Niederschmiedeb
 erg
SUMMARY:Niederschmiedeberg Einheiten im Hilfeleistungseinsatz
URL:https://www.feuerwehr-grossrueckerswalde.de/index.php?option=com_jem&vi
 ew=event&id=58:niederschmiedeberg-einheiten-im-hilfeleistungseinsatz
END:VEVENT
END:VCALENDAR
