BEGIN:VCALENDAR
VERSION:2.0
PRODID:-//81.169.145.165//NONSGML kigkonsult.se iCalcreator 2.20//
CALSCALE:GREGORIAN
METHOD:PUBLISH
X-WR-TIMEZONE:UTC
BEGIN:VEVENT
UID:event59@Gemeindefeuerwehr Großrückerswalde
DTSTAMP:20260421T090111Z
CATEGORIES:OF Niederschmiedeberg
DESCRIPTION:Niederschmiedeberg Abseilen Seigerturm Zöblitz\nKategorie: OF N
 iederschmiedeberg\nICS-Link: https://www.feuerwehr-grossrueckerswalde.de/i
 ndex.php?option=com_jem&view=event&id=59:niederschmiedeberg-abseilen-seige
 rturm-zoeblitz\n
DTSTART:20170526T183000Z
DTEND:20170526T183000Z
LOCATION:Gerätehaus Niederschmiedeberg\,Talstraße 18\,09518 Niederschmiedeb
 erg
SUMMARY:Niederschmiedeberg Abseilen Seigerturm Zöblitz
URL:https://www.feuerwehr-grossrueckerswalde.de/index.php?option=com_jem&vi
 ew=event&id=59:niederschmiedeberg-abseilen-seigerturm-zoeblitz
END:VEVENT
END:VCALENDAR
