BEGIN:VCALENDAR
VERSION:2.0
PRODID:-//81.169.145.165//NONSGML kigkonsult.se iCalcreator 2.20//
CALSCALE:GREGORIAN
METHOD:PUBLISH
X-WR-TIMEZONE:UTC
BEGIN:VEVENT
UID:event62@Gemeindefeuerwehr Großrückerswalde
DTSTAMP:20260419T235005Z
CATEGORIES:OF Niederschmiedeberg
DESCRIPTION:Niederschmiedeberg FwDV 3 Ortslage 3\nKategorie: OF Niederschmi
 edeberg\nICS-Link: https://www.feuerwehr-grossrueckerswalde.de/index.php?o
 ption=com_jem&view=event&id=62:niederschmiedeberg-fwdv-3-ortslage-3\n
DTSTART:20170620T183000Z
DTEND:20170620T183000Z
LOCATION:Gerätehaus Niederschmiedeberg\,Talstraße 18\,09518 Niederschmiedeb
 erg
SUMMARY:Niederschmiedeberg FwDV 3 Ortslage 3
URL:https://www.feuerwehr-grossrueckerswalde.de/index.php?option=com_jem&vi
 ew=event&id=62:niederschmiedeberg-fwdv-3-ortslage-3
END:VEVENT
END:VCALENDAR
