BEGIN:VCALENDAR
VERSION:2.0
PRODID:-//81.169.145.165//NONSGML kigkonsult.se iCalcreator 2.20//
CALSCALE:GREGORIAN
METHOD:PUBLISH
X-WR-TIMEZONE:UTC
BEGIN:VEVENT
UID:event63@Gemeindefeuerwehr Großrückerswalde
DTSTAMP:20260420T082650Z
CATEGORIES:OF Streckewalde
DESCRIPTION:Streckewalde Einheiten im Lösch- und Hilfeleistungseinsatz\nKat
 egorie: OF Streckewalde\nICS-Link: https://www.feuerwehr-grossrueckerswald
 e.de/index.php?option=com_jem&view=event&id=63:streckewalde-einheiten-im-l
 oesch-und-hilfeleistungseinsatz\n
DTSTART:20170203T190000Z
DTEND:20170203T190000Z
LOCATION:Gerätehaus Streckewalde\,Bergstraße 5a\,09518 Streckewalde
SUMMARY:Streckewalde Einheiten im Lösch- und Hilfeleistungseinsatz
URL:https://www.feuerwehr-grossrueckerswalde.de/index.php?option=com_jem&vi
 ew=event&id=63:streckewalde-einheiten-im-loesch-und-hilfeleistungseinsatz
END:VEVENT
END:VCALENDAR
