BEGIN:VCALENDAR
VERSION:2.0
PRODID:-//81.169.145.165//NONSGML kigkonsult.se iCalcreator 2.20//
CALSCALE:GREGORIAN
METHOD:PUBLISH
X-WR-TIMEZONE:UTC
BEGIN:VEVENT
UID:event64@Gemeindefeuerwehr Großrückerswalde
DTSTAMP:20260420T031641Z
CATEGORIES:OF Streckewalde
DESCRIPTION:Streckewalde Erste Hilfe Ausbildung\nKategorie: OF Streckewalde
 \nICS-Link: https://www.feuerwehr-grossrueckerswalde.de/index.php?option=c
 om_jem&view=event&id=64:streckewalde-erste-hilfe-ausbildung\n
DTSTART:20170217T190000Z
DTEND:20170217T190000Z
LOCATION:Gerätehaus Streckewalde\,Bergstraße 5a\,09518 Streckewalde
SUMMARY:Streckewalde Erste Hilfe Ausbildung
URL:https://www.feuerwehr-grossrueckerswalde.de/index.php?option=com_jem&vi
 ew=event&id=64:streckewalde-erste-hilfe-ausbildung
END:VEVENT
END:VCALENDAR
