BEGIN:VCALENDAR
VERSION:2.0
PRODID:-//81.169.145.165//NONSGML kigkonsult.se iCalcreator 2.20//
CALSCALE:GREGORIAN
METHOD:PUBLISH
X-WR-TIMEZONE:UTC
BEGIN:VEVENT
UID:event65@Gemeindefeuerwehr Großrückerswalde
DTSTAMP:20260420T063725Z
CATEGORIES:OF Streckewalde
DESCRIPTION:Streckewalde Technik- und Pflegedienst\nKategorie: OF Streckewa
 lde\nICS-Link: https://www.feuerwehr-grossrueckerswalde.de/index.php?optio
 n=com_jem&view=event&id=65:streckewalde-techni-und-pflegedienst\n
DTSTART:20170224T190000Z
DTEND:20170224T190000Z
LOCATION:Gerätehaus Streckewalde\,Bergstraße 5a\,09518 Streckewalde
SUMMARY:Streckewalde Technik- und Pflegedienst
URL:https://www.feuerwehr-grossrueckerswalde.de/index.php?option=com_jem&vi
 ew=event&id=65:streckewalde-techni-und-pflegedienst
END:VEVENT
END:VCALENDAR
