BEGIN:VCALENDAR
VERSION:2.0
PRODID:-//81.169.145.165//NONSGML kigkonsult.se iCalcreator 2.20//
CALSCALE:GREGORIAN
METHOD:PUBLISH
X-WR-TIMEZONE:UTC
BEGIN:VEVENT
UID:event66@Gemeindefeuerwehr Großrückerswalde
DTSTAMP:20260421T102834Z
CATEGORIES:OF Streckewalde
DESCRIPTION:Streckewalde Knotenkunde\nKategorie: OF Streckewalde\nICS-Link:
  https://www.feuerwehr-grossrueckerswalde.de/index.php?option=com_jem&view
 =event&id=66:streckewalde-knotenkunde\n
DTSTART:20170303T190000Z
DTEND:20170303T190000Z
LOCATION:Gerätehaus Streckewalde\,Bergstraße 5a\,09518 Streckewalde
SUMMARY:Streckewalde Knotenkunde
URL:https://www.feuerwehr-grossrueckerswalde.de/index.php?option=com_jem&vi
 ew=event&id=66:streckewalde-knotenkunde
END:VEVENT
END:VCALENDAR
