BEGIN:VCALENDAR
VERSION:2.0
PRODID:-//81.169.145.165//NONSGML kigkonsult.se iCalcreator 2.20//
CALSCALE:GREGORIAN
METHOD:PUBLISH
X-WR-TIMEZONE:UTC
BEGIN:VEVENT
UID:event67@Gemeindefeuerwehr Großrückerswalde
DTSTAMP:20260420T031756Z
CATEGORIES:OF Streckewalde
DESCRIPTION:Streckewalde Ausleuchten von Einsatzstellen\nKategorie: OF Stre
 ckewalde\nICS-Link: https://www.feuerwehr-grossrueckerswalde.de/index.php?
 option=com_jem&view=event&id=67:streckewalde-ausleuchten-von-einsatzstelle
 n\n
DTSTART:20170317T190000Z
DTEND:20170317T190000Z
LOCATION:Gerätehaus Streckewalde\,Bergstraße 5a\,09518 Streckewalde
SUMMARY:Streckewalde Ausleuchten von Einsatzstellen
URL:https://www.feuerwehr-grossrueckerswalde.de/index.php?option=com_jem&vi
 ew=event&id=67:streckewalde-ausleuchten-von-einsatzstellen
END:VEVENT
END:VCALENDAR
