BEGIN:VCALENDAR
VERSION:2.0
PRODID:-//81.169.145.165//NONSGML kigkonsult.se iCalcreator 2.20//
CALSCALE:GREGORIAN
METHOD:PUBLISH
X-WR-TIMEZONE:UTC
BEGIN:VEVENT
UID:event69@Gemeindefeuerwehr Großrückerswalde
DTSTAMP:20260419T234743Z
CATEGORIES:OF Streckewalde
DESCRIPTION:Streckewalde Einheiten im Löscheinsatz\nKategorie: OF Streckewa
 lde\nICS-Link: https://www.feuerwehr-grossrueckerswalde.de/index.php?optio
 n=com_jem&view=event&id=69:streckewalde-einheiten-im-loescheinsatz\n
DTSTART:20170331T190000Z
DTEND:20170331T190000Z
LOCATION:Gerätehaus Streckewalde\,Bergstraße 5a\,09518 Streckewalde
SUMMARY:Streckewalde Einheiten im Löscheinsatz
URL:https://www.feuerwehr-grossrueckerswalde.de/index.php?option=com_jem&vi
 ew=event&id=69:streckewalde-einheiten-im-loescheinsatz
END:VEVENT
END:VCALENDAR
