BEGIN:VCALENDAR
VERSION:2.0
PRODID:-//81.169.145.165//NONSGML kigkonsult.se iCalcreator 2.20//
CALSCALE:GREGORIAN
METHOD:PUBLISH
X-WR-TIMEZONE:UTC
BEGIN:VEVENT
UID:event7@Gemeindefeuerwehr Großrückerswalde
DTSTAMP:20260420T045129Z
CATEGORIES:Gemeindefeuerwehr Großrückerswalde
DESCRIPTION:Blaulichttage\nKategorie: Gemeindefeuerwehr Großrückerswalde\nI
 CS-Link: https://www.feuerwehr-grossrueckerswalde.de/index.php?option=com_
 jem&view=event&id=7:blaulichttage\n
DTSTART:20171006T160000Z
DTEND:20171008T110000Z
LOCATION:Marienberg\,09518
SUMMARY:Blaulichttage
URL:https://www.feuerwehr-grossrueckerswalde.de/index.php?option=com_jem&vi
 ew=event&id=7:blaulichttage
END:VEVENT
END:VCALENDAR
