BEGIN:VCALENDAR
VERSION:2.0
PRODID:-//81.169.145.165//NONSGML kigkonsult.se iCalcreator 2.20//
CALSCALE:GREGORIAN
METHOD:PUBLISH
X-WR-TIMEZONE:UTC
BEGIN:VEVENT
UID:event72@Gemeindefeuerwehr Großrückerswalde
DTSTAMP:20260421T103318Z
CATEGORIES:OF Streckewalde
DESCRIPTION:Streckewalde Vorgehen bei Verkehrsunfällen\nKategorie: OF Strec
 kewalde\nICS-Link: https://www.feuerwehr-grossrueckerswalde.de/index.php?o
 ption=com_jem&view=event&id=72:streckewalde-vorgehen-bei-verkehrsunfaellen
 \n
DTSTART:20170512T190000Z
DTEND:20170512T190000Z
LOCATION:Gerätehaus Streckewalde\,Bergstraße 5a\,09518 Streckewalde
SUMMARY:Streckewalde Vorgehen bei Verkehrsunfällen
URL:https://www.feuerwehr-grossrueckerswalde.de/index.php?option=com_jem&vi
 ew=event&id=72:streckewalde-vorgehen-bei-verkehrsunfaellen
END:VEVENT
END:VCALENDAR
