BEGIN:VCALENDAR
VERSION:2.0
PRODID:-//81.169.145.165//NONSGML kigkonsult.se iCalcreator 2.20//
CALSCALE:GREGORIAN
METHOD:PUBLISH
X-WR-TIMEZONE:UTC
BEGIN:VEVENT
UID:event73@Gemeindefeuerwehr Großrückerswalde
DTSTAMP:20260421T102752Z
CATEGORIES:OF Streckewalde
DESCRIPTION:Streckewalde Technik- und Pflegedienst\nKategorie: OF Streckewa
 lde\nICS-Link: https://www.feuerwehr-grossrueckerswalde.de/index.php?optio
 n=com_jem&view=event&id=73:streckewalde-technik-und-pflegedienst\n
DTSTART:20170519T190000Z
DTEND:20170519T190000Z
LOCATION:Gerätehaus Streckewalde\,Bergstraße 5a\,09518 Streckewalde
SUMMARY:Streckewalde Technik- und Pflegedienst
URL:https://www.feuerwehr-grossrueckerswalde.de/index.php?option=com_jem&vi
 ew=event&id=73:streckewalde-technik-und-pflegedienst
END:VEVENT
END:VCALENDAR
