BEGIN:VCALENDAR
VERSION:2.0
PRODID:-//81.169.145.165//NONSGML kigkonsult.se iCalcreator 2.20//
CALSCALE:GREGORIAN
METHOD:PUBLISH
X-WR-TIMEZONE:UTC
BEGIN:VEVENT
UID:event74@Gemeindefeuerwehr Großrückerswalde
DTSTAMP:20260419T220825Z
CATEGORIES:OF Streckewalde
DESCRIPTION:Streckewalde Löschangriff mit Schaum\nKategorie: OF Streckewald
 e\nICS-Link: https://www.feuerwehr-grossrueckerswalde.de/index.php?option=
 com_jem&view=event&id=74:streckewalde-loeschangriff-mit-schaum\n
DTSTART:20170526T190000Z
DTEND:20170526T190000Z
LOCATION:Gerätehaus Streckewalde\,Bergstraße 5a\,09518 Streckewalde
SUMMARY:Streckewalde Löschangriff mit Schaum
URL:https://www.feuerwehr-grossrueckerswalde.de/index.php?option=com_jem&vi
 ew=event&id=74:streckewalde-loeschangriff-mit-schaum
END:VEVENT
END:VCALENDAR
