BEGIN:VCALENDAR
VERSION:2.0
PRODID:-//81.169.145.165//NONSGML kigkonsult.se iCalcreator 2.20//
CALSCALE:GREGORIAN
METHOD:PUBLISH
X-WR-TIMEZONE:UTC
BEGIN:VEVENT
UID:event75@Gemeindefeuerwehr Großrückerswalde
DTSTAMP:20260419T221735Z
CATEGORIES:OF Streckewalde
DESCRIPTION:Streckewalde Wasserentnahme aus offenen Gewässer\nKategorie: OF
  Streckewalde\nICS-Link: https://www.feuerwehr-grossrueckerswalde.de/index
 .php?option=com_jem&view=event&id=75:streckewalde-wasserentnahme-aus-offen
 en-gewaesser\n
DTSTART:20170609T190000Z
DTEND:20170609T190000Z
LOCATION:Gerätehaus Streckewalde\,Bergstraße 5a\,09518 Streckewalde
SUMMARY:Streckewalde Wasserentnahme aus offenen Gewässer
URL:https://www.feuerwehr-grossrueckerswalde.de/index.php?option=com_jem&vi
 ew=event&id=75:streckewalde-wasserentnahme-aus-offenen-gewaesser
END:VEVENT
END:VCALENDAR
