BEGIN:VCALENDAR
VERSION:2.0
PRODID:-//81.169.145.165//NONSGML kigkonsult.se iCalcreator 2.20//
CALSCALE:GREGORIAN
METHOD:PUBLISH
X-WR-TIMEZONE:UTC
BEGIN:VEVENT
UID:event76@Gemeindefeuerwehr Großrückerswalde
DTSTAMP:20260419T220025Z
CATEGORIES:OF Streckewalde
DESCRIPTION:Streckewalde Fahrzeug- und Gerätekunde\nKategorie: OF Streckewa
 lde\nICS-Link: https://www.feuerwehr-grossrueckerswalde.de/index.php?optio
 n=com_jem&view=event&id=76:streckewalde-fahrzeug-und-geraetekunde\n
DTSTART:20170623T190000Z
DTEND:20170623T190000Z
LOCATION:Gerätehaus Streckewalde\,Bergstraße 5a\,09518 Streckewalde
SUMMARY:Streckewalde Fahrzeug- und Gerätekunde
URL:https://www.feuerwehr-grossrueckerswalde.de/index.php?option=com_jem&vi
 ew=event&id=76:streckewalde-fahrzeug-und-geraetekunde
END:VEVENT
END:VCALENDAR
