BEGIN:VCALENDAR
VERSION:2.0
PRODID:-//81.169.145.165//NONSGML kigkonsult.se iCalcreator 2.20//
CALSCALE:GREGORIAN
METHOD:PUBLISH
X-WR-TIMEZONE:UTC
BEGIN:VEVENT
UID:event77@Gemeindefeuerwehr Großrückerswalde
DTSTAMP:20260420T064845Z
CATEGORIES:OF Mauersberg
DESCRIPTION:Mauersberg Rechten und Pflichten\nKategorie: OF Mauersberg\nICS
 -Link: https://www.feuerwehr-grossrueckerswalde.de/index.php?option=com_je
 m&view=event&id=77:mauersberg-rechten-und-pflichten\n
DTSTART:20170228T193000Z
DTEND:20170228T193000Z
LOCATION:Gerätehaus Mauersberg\,Hauptstraße 4\,09518 Mauersberg
SUMMARY:Mauersberg Rechten und Pflichten
URL:https://www.feuerwehr-grossrueckerswalde.de/index.php?option=com_jem&vi
 ew=event&id=77:mauersberg-rechten-und-pflichten
END:VEVENT
END:VCALENDAR
