BEGIN:VCALENDAR
VERSION:2.0
PRODID:-//81.169.145.165//NONSGML kigkonsult.se iCalcreator 2.20//
CALSCALE:GREGORIAN
METHOD:PUBLISH
X-WR-TIMEZONE:UTC
BEGIN:VEVENT
UID:event78@Gemeindefeuerwehr Großrückerswalde
DTSTAMP:20260420T012910Z
CATEGORIES:OF Mauersberg
DESCRIPTION:Mauersberg Ausbildung Atemschutz\nKategorie: OF Mauersberg\nICS
 -Link: https://www.feuerwehr-grossrueckerswalde.de/index.php?option=com_je
 m&view=event&id=78:mauersberg-ausbildung-atemschutz\n
DTSTART:20170321T193000Z
DTEND:20170321T193000Z
LOCATION:Gerätehaus Mauersberg\,Hauptstraße 4\,09518 Mauersberg
SUMMARY:Mauersberg Ausbildung Atemschutz
URL:https://www.feuerwehr-grossrueckerswalde.de/index.php?option=com_jem&vi
 ew=event&id=78:mauersberg-ausbildung-atemschutz
END:VEVENT
END:VCALENDAR
