BEGIN:VCALENDAR
VERSION:2.0
PRODID:-//81.169.145.165//NONSGML kigkonsult.se iCalcreator 2.20//
CALSCALE:GREGORIAN
METHOD:PUBLISH
X-WR-TIMEZONE:UTC
BEGIN:VEVENT
UID:event79@Gemeindefeuerwehr Großrückerswalde
DTSTAMP:20260421T103128Z
CATEGORIES:OF Mauersberg
DESCRIPTION:Mauersberg Erste Hilfe Ausbildung\nKategorie: OF Mauersberg\nIC
 S-Link: https://www.feuerwehr-grossrueckerswalde.de/index.php?option=com_j
 em&view=event&id=79:mauersberg-erste-hilfe-ausbildung\n
DTSTART:20170407T193000Z
DTEND:20170407T193000Z
LOCATION:Gerätehaus Mauersberg\,Hauptstraße 4\,09518 Mauersberg
SUMMARY:Mauersberg Erste Hilfe Ausbildung
URL:https://www.feuerwehr-grossrueckerswalde.de/index.php?option=com_jem&vi
 ew=event&id=79:mauersberg-erste-hilfe-ausbildung
END:VEVENT
END:VCALENDAR
