BEGIN:VCALENDAR
VERSION:2.0
PRODID:-//81.169.145.165//NONSGML kigkonsult.se iCalcreator 2.20//
CALSCALE:GREGORIAN
METHOD:PUBLISH
X-WR-TIMEZONE:UTC
BEGIN:VEVENT
UID:event8@Gemeindefeuerwehr Großrückerswalde
DTSTAMP:20260419T214501Z
CATEGORIES:Ortsfeuerwehr Mauersberg
DESCRIPTION:Speedhill am Bodenberg\nKategorie: Ortsfeuerwehr Mauersberg\nIC
 S-Link: https://www.feuerwehr-grossrueckerswalde.de/index.php?option=com_j
 em&view=event&id=8:speedhill-am-bodenberg\n
DTSTART:20150828T183000Z
DTEND:20150830T183000Z
LOCATION:Mauersberg\,09518
SUMMARY:Speedhill am Bodenberg
URL:https://www.feuerwehr-grossrueckerswalde.de/index.php?option=com_jem&vi
 ew=event&id=8:speedhill-am-bodenberg
END:VEVENT
END:VCALENDAR
