BEGIN:VCALENDAR
VERSION:2.0
PRODID:-//81.169.145.165//NONSGML kigkonsult.se iCalcreator 2.20//
CALSCALE:GREGORIAN
METHOD:PUBLISH
X-WR-TIMEZONE:UTC
BEGIN:VEVENT
UID:event80@Gemeindefeuerwehr Großrückerswalde
DTSTAMP:20260420T001013Z
CATEGORIES:OF Mauersberg
DESCRIPTION:Mauersberg Einheiten im Lösch- und Hilfeleistungseinsatz\nKateg
 orie: OF Mauersberg\nICS-Link: https://www.feuerwehr-grossrueckerswalde.de
 /index.php?option=com_jem&view=event&id=80:mauersberg-einheiten-im-loesch-
 und-hilfeleistungseinsatz\n
DTSTART:20170425T193000Z
DTEND:20170425T193000Z
LOCATION:Gerätehaus Mauersberg\,Hauptstraße 4\,09518 Mauersberg
SUMMARY:Mauersberg Einheiten im Lösch- und Hilfeleistungseinsatz
URL:https://www.feuerwehr-grossrueckerswalde.de/index.php?option=com_jem&vi
 ew=event&id=80:mauersberg-einheiten-im-loesch-und-hilfeleistungseinsatz
END:VEVENT
END:VCALENDAR
