BEGIN:VCALENDAR
VERSION:2.0
PRODID:-//81.169.145.165//NONSGML kigkonsult.se iCalcreator 2.20//
CALSCALE:GREGORIAN
METHOD:PUBLISH
X-WR-TIMEZONE:UTC
BEGIN:VEVENT
UID:event81@Gemeindefeuerwehr Großrückerswalde
DTSTAMP:20260419T221715Z
CATEGORIES:OF Mauersberg
DESCRIPTION:Mauersberg Einheiten im Löscheinsatz\nKategorie: OF Mauersberg
 \nICS-Link: https://www.feuerwehr-grossrueckerswalde.de/index.php?option=c
 om_jem&view=event&id=81:mauersberg-einheiten-im-loescheinsatz\n
DTSTART:20170509T193000Z
DTEND:20170509T193000Z
LOCATION:Gerätehaus Mauersberg\,Hauptstraße 4\,09518 Mauersberg
SUMMARY:Mauersberg Einheiten im Löscheinsatz
URL:https://www.feuerwehr-grossrueckerswalde.de/index.php?option=com_jem&vi
 ew=event&id=81:mauersberg-einheiten-im-loescheinsatz
END:VEVENT
END:VCALENDAR
