BEGIN:VCALENDAR
VERSION:2.0
PRODID:-//81.169.145.165//NONSGML kigkonsult.se iCalcreator 2.20//
CALSCALE:GREGORIAN
METHOD:PUBLISH
X-WR-TIMEZONE:UTC
BEGIN:VEVENT
UID:event83@Gemeindefeuerwehr Großrückerswalde
DTSTAMP:20260419T221725Z
CATEGORIES:OF Mauersberg
DESCRIPTION:Mauersberg Einheiten im Hilfeleistungseinsatz\nKategorie: OF Ma
 uersberg\nICS-Link: https://www.feuerwehr-grossrueckerswalde.de/index.php?
 option=com_jem&view=event&id=83:mauersberg-einheiten-im-hilfeleistungseins
 atz\n
DTSTART:20170606T193000Z
DTEND:20170606T193000Z
LOCATION:Gerätehaus Mauersberg\,Hauptstraße 4\,09518 Mauersberg
SUMMARY:Mauersberg Einheiten im Hilfeleistungseinsatz
URL:https://www.feuerwehr-grossrueckerswalde.de/index.php?option=com_jem&vi
 ew=event&id=83:mauersberg-einheiten-im-hilfeleistungseinsatz
END:VEVENT
END:VCALENDAR
