BEGIN:VCALENDAR
VERSION:2.0
PRODID:-//81.169.145.165//NONSGML kigkonsult.se iCalcreator 2.20//
CALSCALE:GREGORIAN
METHOD:PUBLISH
X-WR-TIMEZONE:UTC
BEGIN:VEVENT
UID:event84@Gemeindefeuerwehr Großrückerswalde
DTSTAMP:20260419T215342Z
CATEGORIES:OF Mauersberg
DESCRIPTION:Mauersberg Umgang mit Säbelsäge\nKategorie: OF Mauersberg\nICS-
 Link: https://www.feuerwehr-grossrueckerswalde.de/index.php?option=com_jem
 &view=event&id=84:mauersberg-umgang-mit-saebelsaege\n
DTSTART:20170623T193000Z
DTEND:20170623T193000Z
LOCATION:Gerätehaus Mauersberg\,Hauptstraße 4\,09518 Mauersberg
SUMMARY:Mauersberg Umgang mit Säbelsäge
URL:https://www.feuerwehr-grossrueckerswalde.de/index.php?option=com_jem&vi
 ew=event&id=84:mauersberg-umgang-mit-saebelsaege
END:VEVENT
END:VCALENDAR
