BEGIN:VCALENDAR
VERSION:2.0
PRODID:-//81.169.145.165//NONSGML kigkonsult.se iCalcreator 2.20//
CALSCALE:GREGORIAN
METHOD:PUBLISH
X-WR-TIMEZONE:UTC
BEGIN:VEVENT
UID:event85@Gemeindefeuerwehr Großrückerswalde
DTSTAMP:20260419T234443Z
CATEGORIES:OF Mauersberg
DESCRIPTION:Mauersberg Technik Stationsbetrieb\nKategorie: OF Mauersberg\nI
 CS-Link: https://www.feuerwehr-grossrueckerswalde.de/index.php?option=com_
 jem&view=event&id=85:mauersberg-technik-stationsbetrieb\n
DTSTART:20170704T193000Z
DTEND:20170704T193000Z
LOCATION:Gerätehaus Mauersberg\,Hauptstraße 4\,09518 Mauersberg
SUMMARY:Mauersberg Technik Stationsbetrieb
URL:https://www.feuerwehr-grossrueckerswalde.de/index.php?option=com_jem&vi
 ew=event&id=85:mauersberg-technik-stationsbetrieb
END:VEVENT
END:VCALENDAR
