BEGIN:VCALENDAR
VERSION:2.0
PRODID:-//81.169.145.165//NONSGML kigkonsult.se iCalcreator 2.20//
CALSCALE:GREGORIAN
METHOD:PUBLISH
X-WR-TIMEZONE:UTC
BEGIN:VEVENT
UID:event87@Gemeindefeuerwehr Großrückerswalde
DTSTAMP:20260420T065002Z
CATEGORIES:OF Mauersberg
DESCRIPTION:Mauersberg Ausbildung TS 8/8 und Beleuchtung\nKategorie: OF Mau
 ersberg\nICS-Link: https://www.feuerwehr-grossrueckerswalde.de/index.php?o
 ption=com_jem&view=event&id=87:mauersberg-ausbildung-ts-8-8-und-beleuchtun
 g\n
DTSTART:20170801T193000Z
DTEND:20170801T193000Z
LOCATION:Gerätehaus Mauersberg\,Hauptstraße 4\,09518 Mauersberg
SUMMARY:Mauersberg Ausbildung TS 8/8 und Beleuchtung
URL:https://www.feuerwehr-grossrueckerswalde.de/index.php?option=com_jem&vi
 ew=event&id=87:mauersberg-ausbildung-ts-8-8-und-beleuchtung
END:VEVENT
END:VCALENDAR
