BEGIN:VCALENDAR
VERSION:2.0
PRODID:-//81.169.145.165//NONSGML kigkonsult.se iCalcreator 2.20//
CALSCALE:GREGORIAN
METHOD:PUBLISH
X-WR-TIMEZONE:UTC
BEGIN:VEVENT
UID:event9@Gemeindefeuerwehr Großrückerswalde
DTSTAMP:20260419T220203Z
CATEGORIES:Gemeindefeuerwehr Großrückerswalde
DESCRIPTION:Themenabend für Führungskräfte\nKategorie: Gemeindefeuerwehr Gr
 oßrückerswalde\nICS-Link: https://www.feuerwehr-grossrueckerswalde.de/inde
 x.php?option=com_jem&view=event&id=9:themenabend-fuer-fuehrungskraefte\n
DTSTART:20151005T193000Z
DTEND:20151005T193000Z
LOCATION:Scheunenwirtin\,Oberdorf 1A\,09518 Grossrückerswalde
SUMMARY:Themenabend für Führungskräfte
URL:https://www.feuerwehr-grossrueckerswalde.de/index.php?option=com_jem&vi
 ew=event&id=9:themenabend-fuer-fuehrungskraefte
END:VEVENT
END:VCALENDAR
