BEGIN:VCALENDAR
VERSION:2.0
PRODID:-//81.169.145.165//NONSGML kigkonsult.se iCalcreator 2.20//
CALSCALE:GREGORIAN
METHOD:PUBLISH
X-WR-TIMEZONE:UTC
BEGIN:VEVENT
UID:event93@Gemeindefeuerwehr Großrückerswalde
DTSTAMP:20260419T220923Z
CATEGORIES:OF Streckewalde
DESCRIPTION:Streckewalde Vorgehen bei Küchen- & Fettbränden\nKategorie: OF 
 Streckewalde\nICS-Link: https://www.feuerwehr-grossrueckerswalde.de/index.
 php?option=com_jem&view=event&id=93:streckewalde-vorgehen-bei-kuechen-fett
 braenden\n
DTSTART:20171027T190000Z
DTEND:20171027T190000Z
LOCATION:Gerätehaus Streckewalde\,Bergstraße 5a\,09518 Streckewalde
SUMMARY:Streckewalde Vorgehen bei Küchen- & Fettbränden
URL:https://www.feuerwehr-grossrueckerswalde.de/index.php?option=com_jem&vi
 ew=event&id=93:streckewalde-vorgehen-bei-kuechen-fettbraenden
END:VEVENT
END:VCALENDAR
