BEGIN:VCALENDAR
VERSION:2.0
PRODID:-//81.169.145.165//NONSGML kigkonsult.se iCalcreator 2.20//
CALSCALE:GREGORIAN
METHOD:PUBLISH
X-WR-TIMEZONE:UTC
BEGIN:VEVENT
UID:event95@Gemeindefeuerwehr Großrückerswalde
DTSTAMP:20260420T064544Z
CATEGORIES:OF Streckewalde
DESCRIPTION:Streckewalde Atemschutz und Überwachung\nKategorie: OF Streckew
 alde\nICS-Link: https://www.feuerwehr-grossrueckerswalde.de/index.php?opti
 on=com_jem&view=event&id=95:streckewalde-atemschutz-und-ueberwachung\n
DTSTART:20171124T190000Z
DTEND:20171124T190000Z
LOCATION:Gerätehaus Streckewalde\,Bergstraße 5a\,09518 Streckewalde
SUMMARY:Streckewalde Atemschutz und Überwachung
URL:https://www.feuerwehr-grossrueckerswalde.de/index.php?option=com_jem&vi
 ew=event&id=95:streckewalde-atemschutz-und-ueberwachung
END:VEVENT
END:VCALENDAR
