BEGIN:VCALENDAR
VERSION:2.0
PRODID:-//81.169.145.165//NONSGML kigkonsult.se iCalcreator 2.20//
CALSCALE:GREGORIAN
METHOD:PUBLISH
X-WR-TIMEZONE:UTC
BEGIN:VEVENT
UID:event96@Gemeindefeuerwehr Großrückerswalde
DTSTAMP:20260419T214605Z
CATEGORIES:OF Streckewalde
DESCRIPTION:Streckewalde Technische Hilfe Greifzug\nKategorie: OF Streckewa
 lde\nICS-Link: https://www.feuerwehr-grossrueckerswalde.de/index.php?optio
 n=com_jem&view=event&id=96:streckewalde-technische-hilfe-greifzug\n
DTSTART:20171103T190000Z
DTEND:20171103T190000Z
LOCATION:Gerätehaus Streckewalde\,Bergstraße 5a\,09518 Streckewalde
SUMMARY:Streckewalde Technische Hilfe Greifzug
URL:https://www.feuerwehr-grossrueckerswalde.de/index.php?option=com_jem&vi
 ew=event&id=96:streckewalde-technische-hilfe-greifzug
END:VEVENT
END:VCALENDAR
