BEGIN:VCALENDAR
VERSION:2.0
PRODID:-//81.169.145.165//NONSGML kigkonsult.se iCalcreator 2.20//
CALSCALE:GREGORIAN
METHOD:PUBLISH
X-WR-TIMEZONE:UTC
BEGIN:VEVENT
UID:event98@Gemeindefeuerwehr Großrückerswalde
DTSTAMP:20260419T220035Z
CATEGORIES:OF Großrückerswalde
DESCRIPTION:Großrückerswalde Vorgehen bei Verkehrsunfällen\nKategorie: OF G
 roßrückerswalde\nICS-Link: https://www.feuerwehr-grossrueckerswalde.de/ind
 ex.php?option=com_jem&view=event&id=98:grossrueckerswalde-vorgehen-bei-ver
 kehrsunfaellen\n
DTSTART:20170808T193000Z
DTEND:20170808T193000Z
LOCATION:Gerätehaus Großrückerswalde\,Marienberger Str. 72\,09518 Grossrück
 erswalde
SUMMARY:Großrückerswalde Vorgehen bei Verkehrsunfällen
URL:https://www.feuerwehr-grossrueckerswalde.de/index.php?option=com_jem&vi
 ew=event&id=98:grossrueckerswalde-vorgehen-bei-verkehrsunfaellen
END:VEVENT
END:VCALENDAR
