BEGIN:VCALENDAR
VERSION:2.0
PRODID:-//81.169.145.165//NONSGML kigkonsult.se iCalcreator 2.20//
CALSCALE:GREGORIAN
METHOD:PUBLISH
X-WR-TIMEZONE:UTC
BEGIN:VEVENT
UID:event145@Gemeindefeuerwehr Großrückerswalde
DTSTAMP:20260419T180306Z
CATEGORIES:Ortsfeuerwehr Großrückerswalde
DESCRIPTION:Tag der offenen Tür FF Großrückerswalde\nKategorie: Ortsfeuerwe
 hr Großrückerswalde\nICS-Link: https://www.feuerwehr-grossrueckerswalde.de
 /index.php?option=com_jem&view=event&id=145:tag-der-offenen-tuer-ff-grossr
 ueckerswalde\n
DTSTART;VALUE=DATE:20260530
DTEND;VALUE=DATE:20260601
LOCATION:Gerätehaus Großrückerswalde\,Marienberger Str. 72\,09518 Grossrück
 erswalde\,Germany
SUMMARY:Tag der offenen Tür FF Großrückerswalde
URL:https://www.feuerwehr-grossrueckerswalde.de/index.php?option=com_jem&vi
 ew=event&id=145:tag-der-offenen-tuer-ff-grossrueckerswalde
END:VEVENT
BEGIN:VEVENT
UID:event149@Gemeindefeuerwehr Großrückerswalde
DTSTAMP:20260419T180306Z
CATEGORIES:Ortsfeuerwehr Mauersberg
DESCRIPTION:Tag der offenen Tür FF Mauersberg\nKategorie: Ortsfeuerwehr Mau
 ersberg\nICS-Link: https://www.feuerwehr-grossrueckerswalde.de/index.php?o
 ption=com_jem&view=event&id=149:tag-der-offenen-tuer-ff-mauersberg\n
DTSTART;VALUE=DATE:20260619
DTEND;VALUE=DATE:20260622
SUMMARY:Tag der offenen Tür FF Mauersberg
URL:https://www.feuerwehr-grossrueckerswalde.de/index.php?option=com_jem&vi
 ew=event&id=149:tag-der-offenen-tuer-ff-mauersberg
END:VEVENT
END:VCALENDAR
